BEGIN:VCALENDAR
VERSION:2.0
PRODID:-//www.ifefree.org//NONSGML kigkonsult.se iCalcreator 2.39.1//
CALSCALE:GREGORIAN
METHOD:PUBLISH
UID:b56549ab-89a6-42ad-b359-f25956bb3d56
X-WR-CALNAME:www.ifefree.org
X-WR-CALDESC:www.ifefree.org
X-WR-TIMEZONE:America/Los_Angeles
X-LIC-LOCATION:America/Los_Angeles
BEGIN:VEVENT
UID:b29cb2f5-ba46-4294-8d0a-7b1e2e7e52f7
DTSTAMP:20260424T192927Z
CLASS:PUBLIC
DTSTART;TZID=America/Los_Angeles:20260426T090000
DTEND;TZID=America/Los_Angeles:20260426T095500
SUMMARY:Sunday School
TRANSP:OPAQUE
BEGIN:VALARM
ACTION:DISPLAY
DESCRIPTION:Sunday School
TRIGGER:-PT15M
END:VALARM
END:VEVENT
END:VCALENDAR
